BEGIN:VCALENDAR
PRODID:-//PUBBLE//agenda//NL
VERSION:2.0
METHOD:PUBLISH
BEGIN:VEVENT
DTSTART:20260307T170000Z
DTEND:20260307T210000Z
DTSTAMP:20260422T030107Z
UID:59a28587-26dc-44b1-a11e-9c41eef61d2d
CREATED:20260422T030107Z
NAME:Playbackshow De Cocksdorp texelsecourant.nl
X-WR-CALNAME:Playbackshow De Cocksdorp
X-ALT-DESC;FMTTYPE=text/html:<a href='/agenda/2026/3/7/playbackshow-de-cocksdorp-334947'>/agenda/2026/3/7/playbackshow-de-cocksdorp-334947</a> || <p>In het Eierlandsche Huis wordt de Playbackshow voor de Cocksdorp en Eierland gehouden. Dit jaar draait het om het speciale thema: Duo’s. “Dol, dwaas als het maar dubbel is”, meldt de organisatie.Publiek is van harte welkom. Gratis entree voor jong en oud. Opgeven als act kan alleen nog dit weekend via de QR code of anders aanmelden bij Anja van Uhm of Annemiek van der Werve. </p><p>Dit evenement is rolstoelvriendelijk.</p><p>Dit evenement is niet huisdiervriendelijk.</p>
DESCRIPTION:<a href='/agenda/2026/3/7/playbackshow-de-cocksdorp-334947'>/agenda/2026/3/7/playbackshow-de-cocksdorp-334947</a> || <p>In het Eierlandsche Huis wordt de Playbackshow voor de Cocksdorp en Eierland gehouden. Dit jaar draait het om het speciale thema: Duo’s. “Dol, dwaas als het maar dubbel is”, meldt de organisatie.Publiek is van harte welkom. Gratis entree voor jong en oud. Opgeven als act kan alleen nog dit weekend via de QR code of anders aanmelden bij Anja van Uhm of Annemiek van der Werve. </p><p>Dit evenement is rolstoelvriendelijk.</p><p>Dit evenement is niet huisdiervriendelijk.</p>
LAST-MODIFIED:20260422T030107Z
LOCATION: Dorpshuis Het Eierlandsche Huis | Klimpstraat 33 De Cocksdorp
SEQUENCE:0
STATUS:CONFIRMED
SUMMARY:Playbackshow De Cocksdorp
TRANSP:OPAQUE
END:VEVENT
END:VCALENDAR
