BEGIN:VCALENDAR
PRODID:-//PUBBLE//agenda//NL
VERSION:2.0
METHOD:PUBLISH
BEGIN:VEVENT
DTSTART:20260221T180000Z
DTEND:20260221T200000Z
DTSTAMP:20260421T090601Z
UID:2862a338-83d1-413a-9259-99c177124c2e
CREATED:20260421T090601Z
NAME:Josh van den Berg in De Bijenkorf texelsecourant.nl
X-WR-CALNAME:Josh van den Berg in De Bijenkorf
X-ALT-DESC;FMTTYPE=text/html:<a href='/agenda/2026/2/21/josh-van-den-berg-in-de-bijenkorf-333674'>/agenda/2026/2/21/josh-van-den-berg-in-de-bijenkorf-333674</a> || <p>Josh van den Berg uit Oosterend geeft in dorpshuis De Bijenkorf in zijn eigen dorp een theaterconcert met covers en eigen werk. Kaarten via: joshvandenberg.nl. Entree €5,80, incl. koffie en thee.&nbsp;</p><p>Dit evenement is rolstoelvriendelijk.</p><p>Dit evenement is niet huisdiervriendelijk.</p>
DESCRIPTION:<a href='/agenda/2026/2/21/josh-van-den-berg-in-de-bijenkorf-333674'>/agenda/2026/2/21/josh-van-den-berg-in-de-bijenkorf-333674</a> || <p>Josh van den Berg uit Oosterend geeft in dorpshuis De Bijenkorf in zijn eigen dorp een theaterconcert met covers en eigen werk. Kaarten via: joshvandenberg.nl. Entree €5,80, incl. koffie en thee.&nbsp;</p><p>Dit evenement is rolstoelvriendelijk.</p><p>Dit evenement is niet huisdiervriendelijk.</p>
LAST-MODIFIED:20260421T090601Z
LOCATION: Dorpshuis De Bijenkorf | Mulderstraat 37 Oosterend
SEQUENCE:0
STATUS:CONFIRMED
SUMMARY:Josh van den Berg in De Bijenkorf
TRANSP:OPAQUE
END:VEVENT
END:VCALENDAR
