BEGIN:VCALENDAR
PRODID:-//PUBBLE//agenda//NL
VERSION:2.0
METHOD:PUBLISH
BEGIN:VEVENT
DTSTART:20251109T104500Z
DTEND:20251109T150000Z
DTSTAMP:20260425T163548Z
UID:453d02bf-8d00-4a9a-83af-1f2e60b35c97
CREATED:20260425T163548Z
NAME:Herfstwandeltocht Gouden Boltje texelsecourant.nl
X-WR-CALNAME:Herfstwandeltocht Gouden Boltje
X-ALT-DESC;FMTTYPE=text/html:<a href='/agenda/2025/11/9/herfstwandeltocht-gouden-boltje-333385'>/agenda/2025/11/9/herfstwandeltocht-gouden-boltje-333385</a> || <p>Wandelsportvereniging Het Gouden Boltje houdt de Herfstwandeltocht. Startpunt is Het Cafeetje in Oosterend. Tussen 12:45 en 13:15 uur kan worden gestart voor een wandeling van vijftien km. Tussen 13:00 en 14:00 uur kan worden gestart voor een wandeling van vijf of tien km. Om 16:30 uur sluit het startbureau. De inschrijfkosten zijn voor leden €3,50 en voor niet-leden €4,50. Betaling uitsluitend via pin of met QR-code. Kinderen tot en met twaalf jaar gratis deelname. Voor deze tocht is een fraaie button beschikbaar.</p><p>Dit evenement is rolstoelvriendelijk.</p><p>Dit evenement is huisdiervriendelijk.</p>
DESCRIPTION:<a href='/agenda/2025/11/9/herfstwandeltocht-gouden-boltje-333385'>/agenda/2025/11/9/herfstwandeltocht-gouden-boltje-333385</a> || <p>Wandelsportvereniging Het Gouden Boltje houdt de Herfstwandeltocht. Startpunt is Het Cafeetje in Oosterend. Tussen 12:45 en 13:15 uur kan worden gestart voor een wandeling van vijftien km. Tussen 13:00 en 14:00 uur kan worden gestart voor een wandeling van vijf of tien km. Om 16:30 uur sluit het startbureau. De inschrijfkosten zijn voor leden €3,50 en voor niet-leden €4,50. Betaling uitsluitend via pin of met QR-code. Kinderen tot en met twaalf jaar gratis deelname. Voor deze tocht is een fraaie button beschikbaar.</p><p>Dit evenement is rolstoelvriendelijk.</p><p>Dit evenement is huisdiervriendelijk.</p>
LAST-MODIFIED:20260425T163548Z
LOCATION: 't Cafeetje | Kerkstraat 7 Oosterend
SEQUENCE:0
STATUS:CONFIRMED
SUMMARY:Herfstwandeltocht Gouden Boltje
TRANSP:OPAQUE
END:VEVENT
END:VCALENDAR
