BEGIN:VCALENDAR
PRODID:-//PUBBLE//agenda//NL
VERSION:2.0
METHOD:PUBLISH
BEGIN:VEVENT
DTSTART:20250503T073000Z
DTEND:20250928T220000Z
DTSTAMP:20260425T170524Z
UID:17a1ccfc-a012-4741-a16e-49fec979f903
CREATED:20260425T170524Z
NAME:Dagtocht naar Vlieland texelsecourant.nl
X-WR-CALNAME:Dagtocht naar Vlieland
X-ALT-DESC;FMTTYPE=text/html:<a href='/agenda/2025/5/3/dagtocht-naar-vlieland-325081'>/agenda/2025/5/3/dagtocht-naar-vlieland-325081</a> || Een dagtocht van Texel naar Vlieland is een hele belevenis!







Via de beroemde houten steiger scheept u in op De Vriendschap. Rust, frisse zeewind en prachtige uitzichten maken het tot een heerlijke ervaring. Even weg van alles en genieten van de natuur. De vaartocht duurt ongeveer een half uur, op Vlieland stap u in de grote truck, de Vliehors Expres, die u over de zandvlakte naar het Posthuys brengt. U kunt dan de gehele dag het eiland verkennen en ontdekken, de voet of per fiets (die kunt u op Vlieland huren). Eind van de middag verwachten wij u weer bij het Posthuys begint de terug reis.



Rolstoelvriendelijk: neeHuisdiervriendelijk: ja
DESCRIPTION:<a href='/agenda/2025/5/3/dagtocht-naar-vlieland-325081'>/agenda/2025/5/3/dagtocht-naar-vlieland-325081</a> || Een dagtocht van Texel naar Vlieland is een hele belevenis!







Via de beroemde houten steiger scheept u in op De Vriendschap. Rust, frisse zeewind en prachtige uitzichten maken het tot een heerlijke ervaring. Even weg van alles en genieten van de natuur. De vaartocht duurt ongeveer een half uur, op Vlieland stap u in de grote truck, de Vliehors Expres, die u over de zandvlakte naar het Posthuys brengt. U kunt dan de gehele dag het eiland verkennen en ontdekken, de voet of per fiets (die kunt u op Vlieland huren). Eind van de middag verwachten wij u weer bij het Posthuys begint de terug reis.



Rolstoelvriendelijk: neeHuisdiervriendelijk: ja
LAST-MODIFIED:20260425T170524Z
LOCATION: Waddenveer De Vriendschap | Volharding 2a De Cocksdorp
SEQUENCE:0
STATUS:CONFIRMED
SUMMARY:Dagtocht naar Vlieland
TRANSP:OPAQUE
END:VEVENT
END:VCALENDAR
